BEGIN:VCALENDAR
VERSION:2.0
PRODID:-//Allegheny Millwork &amp; Lumber - ECPv6.15.20//NONSGML v1.0//EN
CALSCALE:GREGORIAN
METHOD:PUBLISH
X-ORIGINAL-URL:https://alleghenymillworklumber.com
X-WR-CALDESC:Events for Allegheny Millwork &amp; Lumber
REFRESH-INTERVAL;VALUE=DURATION:PT1H
X-Robots-Tag:noindex
X-PUBLISHED-TTL:PT1H
BEGIN:VTIMEZONE
TZID:UTC
BEGIN:STANDARD
TZOFFSETFROM:+0000
TZOFFSETTO:+0000
TZNAME:UTC
DTSTART:20250101T000000
END:STANDARD
END:VTIMEZONE
BEGIN:VEVENT
DTSTART;TZID=UTC:20260506T120000
DTEND;TZID=UTC:20260506T130000
DTSTAMP:20260423T191709
CREATED:20260417T135125Z
LAST-MODIFIED:20260417T135125Z
UID:13451-1778068800-1778072400@alleghenymillworklumber.com
SUMMARY:AIA CEU Lunch & Learn - May 6\, 2026
DESCRIPTION:Please join us for an upcoming AIA CEU Lunch & Learn presented by Jack Litzenberg of TREX. \nCourse Title:Nature and Well-Being: The Benefits of Outdoor Spaces and Related Applications of Composite Wood Decking \nCredit:1.0 LU/HSW Hour \nBuilding a stronger connection with nature is critical for maintaining human health and well-being. This course explores how composite wood decking serves as a durable\, environmentally sustainable solution for creating meaningful outdoor environments. From residential outdoor rooms to roof gardens\, healing spaces\, and public boardwalks\, these applications help reconnect people with nature in impactful ways. \nWe hope you can join us for this informative and engaging session! \n\n\n\n\n\n\n\n\n\n\n\n\n\n\n\n\n\n\n\n\n \n\n\n\n\n\n\n\n\n\n\n\n\n\n\n\n\n\n\n\n\nLearning Objectives: \n\nUnderstand the relationship between outdoor environments and human health\, wellness\, and productivity\nIdentify key design principles for creating functional and restorative outdoor living spaces\nExplore the performance\, durability\, and sustainability benefits of composite wood decking\nExamine real-world applications including residential\, commercial\, and public green space projects\n\n\n\n\n\n\n\n\n\n\n \n5-6-26 CEU Nature & Well Being Registration \n  \n 
URL:https://alleghenymillworklumber.com/event/aia-ceu-lunch-learn-may-6-2026/
LOCATION:AML Education Center\, 1001 Muriel Street\, Pittsburgh\, PA\, 15203\, United States
CATEGORIES:Architects,Designers
ATTACH;FMTTYPE=image/png:https://alleghenymillworklumber.com/wp-content/uploads/2025/02/TrexLogo-RGB-01-e1776433839731.png
ORGANIZER;CN="Allegheny Millwork & Lumber":MAILTO:info@alleghenymillwork.com
END:VEVENT
END:VCALENDAR