BEGIN:VCALENDAR
VERSION:2.0
PRODID:-//Allegheny Millwork &amp; Lumber - ECPv6.15.20//NONSGML v1.0//EN
CALSCALE:GREGORIAN
METHOD:PUBLISH
X-WR-CALNAME:Allegheny Millwork &amp; Lumber
X-ORIGINAL-URL:https://alleghenymillworklumber.com
X-WR-CALDESC:Events for Allegheny Millwork &amp; Lumber
REFRESH-INTERVAL;VALUE=DURATION:PT1H
X-Robots-Tag:noindex
X-PUBLISHED-TTL:PT1H
BEGIN:VTIMEZONE
TZID:UTC
BEGIN:STANDARD
TZOFFSETFROM:+0000
TZOFFSETTO:+0000
TZNAME:UTC
DTSTART:20230101T000000
END:STANDARD
END:VTIMEZONE
BEGIN:VEVENT
DTSTART;TZID=UTC:20240919T160000
DTEND;TZID=UTC:20240919T170000
DTSTAMP:20260423T111424
CREATED:20240917T173836Z
LAST-MODIFIED:20240917T173836Z
UID:11897-1726761600-1726765200@alleghenymillworklumber.com
SUMMARY:Mont Synthesis Installation Training - Sept. 19th
DESCRIPTION:Join us for an informative session to instruct you on how to install Mont Synthesis shower surround system.  Synthesis is a large format porcelain that is mechanically attached to traditional stud framing without the use of thin set.  Allegheny Millwork & Lumber is proud to be the Pittsburgh area retailer for this amazing new system. \nBenefits to the installer: \n\nInstall in a fraction of the time needed for a custom procelain installation\nRequires only a trim carpentry skillset to install – no tile setter needed\nAll installation materials arrive in one convenient kit\nTypically installed in 1-2 days depending on customized application\nCut and trim at the jobsite with a hand-held angle grinder\nNo mixing adhesives at the jobsite\nCrate can be loaded witha  forklift and unloaded piece-by-piece at the jobsite\n\nDATE: Thursday\, Sept. 19\, 2024    TRAINING: 4-5PM \nMillwork Mixer to follow from 5-7 PM\, join us for happy hour\, appetizers and cocktails served. \nREGISTER HERE
URL:https://alleghenymillworklumber.com/event/mont-synthesis-installation-training-sept-19th/
LOCATION:Allegheny Millwork & Lumber Classroom\, 1001 Muriel Street\, Pittsburgh\, PA\, 15203\, United States
CATEGORIES:Architects,Contractors,Designers
ATTACH;FMTTYPE=image/jpeg:https://alleghenymillworklumber.com/wp-content/uploads/2024/09/mont-synthesisBWwater-drop.jpg
ORGANIZER;CN="Allegheny Millwork & Lumber":MAILTO:info@alleghenymillwork.com
END:VEVENT
END:VCALENDAR