BEGIN:VCALENDAR
VERSION:2.0
PRODID:-//Allegheny Millwork &amp; Lumber - ECPv6.15.20//NONSGML v1.0//EN
CALSCALE:GREGORIAN
METHOD:PUBLISH
X-WR-CALNAME:Allegheny Millwork &amp; Lumber
X-ORIGINAL-URL:https://alleghenymillworklumber.com
X-WR-CALDESC:Events for Allegheny Millwork &amp; Lumber
REFRESH-INTERVAL;VALUE=DURATION:PT1H
X-Robots-Tag:noindex
X-PUBLISHED-TTL:PT1H
BEGIN:VTIMEZONE
TZID:UTC
BEGIN:STANDARD
TZOFFSETFROM:+0000
TZOFFSETTO:+0000
TZNAME:UTC
DTSTART:20200101T000000
END:STANDARD
END:VTIMEZONE
BEGIN:VEVENT
DTSTART;TZID=UTC:20210714T110000
DTEND;TZID=UTC:20210714T140000
DTSTAMP:20260421T190652
CREATED:20210614T180322Z
LAST-MODIFIED:20210614T180322Z
UID:6079-1626260400-1626271200@alleghenymillworklumber.com
SUMMARY:WindsorONE Tailgate Event
DESCRIPTION:Product demos and lunch
URL:https://alleghenymillworklumber.com/event/windsorone-tailgate-event/
LOCATION:Allegheny Millwork & Lumber Classroom\, 1001 Muriel Street\, Pittsburgh\, PA\, 15203\, United States
CATEGORIES:Architects,Contractors,Designers,General
ATTACH;FMTTYPE=image/png:https://alleghenymillworklumber.com/wp-content/uploads/2021/06/Picture1.png
END:VEVENT
BEGIN:VEVENT
DTSTART;VALUE=DATE:20210705
DTEND;VALUE=DATE:20210706
DTSTAMP:20260421T190652
CREATED:20210510T163650Z
LAST-MODIFIED:20210510T163650Z
UID:5852-1625443200-1625529599@alleghenymillworklumber.com
SUMMARY:CLOSED
DESCRIPTION:We will be closed on Monday\, July 5th in observance of Independence Day! \n 
URL:https://alleghenymillworklumber.com/event/closed/
LOCATION:PA
CATEGORIES:Architects,Contractors,Designers,General
ATTACH;FMTTYPE=image/jpeg:https://alleghenymillworklumber.com/wp-content/uploads/2021/05/4th-wood.jpg
END:VEVENT
BEGIN:VEVENT
DTSTART;TZID=UTC:20210628T110000
DTEND;TZID=UTC:20210628T140000
DTSTAMP:20260421T190652
CREATED:20210610T194952Z
LAST-MODIFIED:20210610T194952Z
UID:6062-1624878000-1624888800@alleghenymillworklumber.com
SUMMARY:VERSATEX ROADSHOW
DESCRIPTION:A hands-on educational event that gives contractors an opportunity to learn best practices working with PVC trim.  Meet the Versatex Team while you enjoy some food\, refreshments and prizes.
URL:https://alleghenymillworklumber.com/event/versatex-roadshow/
LOCATION:Allegheny Millwork & Lumber Classroom\, 1001 Muriel Street\, Pittsburgh\, PA\, 15203\, United States
CATEGORIES:Architects,Contractors,Designers,General
ATTACH;FMTTYPE=image/png:https://alleghenymillworklumber.com/wp-content/uploads/2021/06/Title-Small.png
END:VEVENT
BEGIN:VEVENT
DTSTART;TZID=UTC:20210608T100000
DTEND;TZID=UTC:20210608T130000
DTSTAMP:20260421T190652
CREATED:20210511T192729Z
LAST-MODIFIED:20210511T192729Z
UID:5866-1623146400-1623157200@alleghenymillworklumber.com
SUMMARY:Westbury Railing Trailer Visit
DESCRIPTION:
URL:https://alleghenymillworklumber.com/event/westbury-railing-trailer-visit/
LOCATION:Allegheny Millwork & Lumber Classroom\, 1001 Muriel Street\, Pittsburgh\, PA\, 15203\, United States
CATEGORIES:Architects,Contractors,Designers,General
ATTACH;FMTTYPE=image/jpeg:https://alleghenymillworklumber.com/wp-content/uploads/2021/05/Screenshot-2021-04-14-161242.jpg
END:VEVENT
BEGIN:VEVENT
DTSTART;TZID=UTC:20210602T120000
DTEND;TZID=UTC:20210602T130000
DTSTAMP:20260421T190652
CREATED:20210422T185514Z
LAST-MODIFIED:20210422T185514Z
UID:5743-1622635200-1622638800@alleghenymillworklumber.com
SUMMARY:Virtual AIA CEU Presentation
DESCRIPTION:Exterior Shutters in 21st Century Architecture \nProgram #TTG002 \n2 Credits – 1 LU/1 HSW \nPresented by Buddy Eldridge of Atlantic Premium Shutters \nRegistration link to be announced
URL:https://alleghenymillworklumber.com/event/virtual-aia-ceu-presentation/
LOCATION:Virtual
CATEGORIES:Architects,Designers
END:VEVENT
BEGIN:VEVENT
DTSTART;VALUE=DATE:20210531
DTEND;VALUE=DATE:20210601
DTSTAMP:20260421T190652
CREATED:20210510T162438Z
LAST-MODIFIED:20210510T162438Z
UID:5841-1622419200-1622505599@alleghenymillworklumber.com
SUMMARY:CLOSED - Memorial Day
DESCRIPTION:We will be closed on Monday\, May 31st\, in observance of Memorial Day.
URL:https://alleghenymillworklumber.com/event/closed-memorial-day/
LOCATION:PA
CATEGORIES:Architects,Contractors,Designers,General
ATTACH;FMTTYPE=image/jpeg:https://alleghenymillworklumber.com/wp-content/uploads/2021/05/Memorial-Day-2021-Images-HD-Download.jpg
END:VEVENT
BEGIN:VEVENT
DTSTART;TZID=UTC:20210505T120000
DTEND;TZID=UTC:20210505T130000
DTSTAMP:20260421T190652
CREATED:20210422T003552Z
LAST-MODIFIED:20210422T185055Z
UID:5727-1620216000-1620219600@alleghenymillworklumber.com
SUMMARY:Virtual AIA CEU Presentation
DESCRIPTION:Enduring Beauty:  High Performing Open Jointed Cladding Systems – #IAZ07A \n1 LU/HSW CREDIT  AIA Approved \nMicroSoft Teams Meeting \nREGISTER HERE \n 
URL:https://alleghenymillworklumber.com/event/free-ceu-may-5-2021/
LOCATION:Virtual
CATEGORIES:Architects,Designers
END:VEVENT
END:VCALENDAR