BEGIN:VCALENDAR
VERSION:2.0
PRODID:-//Allegheny Millwork &amp; Lumber - ECPv6.15.20//NONSGML v1.0//EN
CALSCALE:GREGORIAN
METHOD:PUBLISH
X-WR-CALNAME:Allegheny Millwork &amp; Lumber
X-ORIGINAL-URL:https://alleghenymillworklumber.com
X-WR-CALDESC:Events for Allegheny Millwork &amp; Lumber
REFRESH-INTERVAL;VALUE=DURATION:PT1H
X-Robots-Tag:noindex
X-PUBLISHED-TTL:PT1H
BEGIN:VTIMEZONE
TZID:UTC
BEGIN:STANDARD
TZOFFSETFROM:+0000
TZOFFSETTO:+0000
TZNAME:UTC
DTSTART:20240101T000000
END:STANDARD
END:VTIMEZONE
BEGIN:VEVENT
DTSTART;TZID=UTC:20250903T120000
DTEND;TZID=UTC:20250903T130000
DTSTAMP:20260421T081009
CREATED:20250801T181939Z
LAST-MODIFIED:20250801T181939Z
UID:13116-1756900800-1756904400@alleghenymillworklumber.com
SUMMARY:AIA CEU Lunch & Learn - Sept. 3\, 2025
DESCRIPTION:“Hand Rail Code Requirements & Design Considerations” \nCourse Code: INTEX2020HSW  Credits: 1 LU/HSW \nPresented by: Tommy Craig\, Area Sales Manager INTEX Millwork Solutions. \nThis Course will provide the Architect with the details of railing systems code requirements and testing to ensure they meet IRC and IBC Building Codes.  Integrating design elements based on materials and span limits into the structure architecture. \nLearning Objectives: \nAt the end of this course attendees will be able to: \n\nDescribe the IBC and IRC code requirements for railing\nDescribe how Railing Systems are tested to ensure their compliance of the IBC and IRC codes\nDesign Considerations of Materials and Spans\nImprove Exterior Aesthetics using longer railing spans\n\n11:30am Registration/lunch \n12:00-1:00pm Presentation \nLunch is included \nREGISTER HERE
URL:https://alleghenymillworklumber.com/event/aia-ceu-lunch-learn-sept-3-2025/
LOCATION:Allegheny Millwork & Lumber Classroom\, 1001 Muriel Street\, Pittsburgh\, PA\, 15203\, United States
CATEGORIES:Architects,Designers
ATTACH;FMTTYPE=image/png:https://alleghenymillworklumber.com/wp-content/uploads/2025/08/Intex-e1754071990609.png
ORGANIZER;CN="Allegheny Millwork & Lumber":MAILTO:info@alleghenymillwork.com
END:VEVENT
BEGIN:VEVENT
DTSTART;TZID=UTC:20250905T100000
DTEND;TZID=UTC:20250907T170000
DTSTAMP:20260421T081009
CREATED:20250813T165841Z
LAST-MODIFIED:20250813T165917Z
UID:13124-1757066400-1757264400@alleghenymillworklumber.com
SUMMARY:A Fair in the Park - Sept. 5\, 6\, 7
DESCRIPTION:Visit us at the 2025 A Fair in the Park\n\n\n\nSeptember 5\, 6\, 7\, 2025 \n\n\n\n\n\n\nMellon Park\n1047 Shady Ave\nPittsburgh\, PA 15232 \n\n\n\n\n\nFRI: 1-7pm\nSAT: 10am-7pm\nSUN: 10am-5pm\n\n\n\nThis annual contemporary fine art and fine craft festival will take place in the lush surroundings of Pittsburgh’s Mellon Park. An estimated 20\,000 dedicated visitors enjoy the opportunity to interact with approximately 85 regional and national artists working in a variety of mediums including clay\, fiber\, wood\, jewelry\, glass\, leather\, metal\, mixed media\, and two-dimensional art.  Plus a select few home improvement “artists” including us.  Allegheny Millwork & Lumber will be there all 3 days\, come visit our tent. We hope to see you there! \nThis rain or shine outdoor event is free and open to the public. \nMellon Park is located in Shadyside on the edge of Squirrel Hill and Point Breeze along Fifth Avenue and Beechwood Blvd. \nNeed Directions?  Click here for a Google Map.
URL:https://alleghenymillworklumber.com/event/a-fair-in-the-park-sept-5-6-7/
LOCATION:Mellon Park Pittsburgh\, 1047 Shady Ave.\, Pittsburgh\, PA\, 15232
CATEGORIES:Architects,Contractors,Designers,General
ATTACH;FMTTYPE=image/jpeg:https://alleghenymillworklumber.com/wp-content/uploads/2025/08/A-Fair-in-the-Park.jpg
END:VEVENT
BEGIN:VEVENT
DTSTART;TZID=UTC:20250907T110000
DTEND;TZID=UTC:20250907T170000
DTSTAMP:20260421T081009
CREATED:20250813T171653Z
LAST-MODIFIED:20250813T171653Z
UID:13127-1757242800-1757264400@alleghenymillworklumber.com
SUMMARY:Mexican War Streets House & Garden Tour Sept. 7
DESCRIPTION:Allegheny Millwork & Lumber is a proud Spons​or of the Mexican War Streets House & Garden Tour! \nSunday\, September 7\, 2025 \nThis is a self guided tour\, estimated it will take 3 hours to visit and enjoy all of the houses and gardens. \nVisit our tent during the show. \nGet your tickets here!
URL:https://alleghenymillworklumber.com/event/mexican-war-streets-house-garden-tour-sept-7/
LOCATION:PA
CATEGORIES:Architects,Contractors,Designers,General
ATTACH;FMTTYPE=image/png:https://alleghenymillworklumber.com/wp-content/uploads/2025/08/MWS-House-Tour-Sept-7.png
END:VEVENT
END:VCALENDAR